BEGIN:VCALENDAR
VERSION:2.0
CALSCALE:GREGORIAN
METHOD:PUBLISH
PRODID://TBLC//467185
BEGIN:VEVENT
DTSTAMP:20260424T115528
VTIMEZONE:America/New_York
DTSTART:20251202T140000Z
DTEND:20251202T160000Z
UID:467185
SUMMARY:Cafecito con Conexiones - Hillsborough
LOCATION:Corona's Coffee Shop, 9307 N Nebraska Ave, Tampa, FL, 33612
DESCRIPTION:Cafecito con Conexiones - Hillsborough\n\n12/02/25 09:00 AM EST\n - 12/02/25 11:00 AM EST\Description:\nJoin us for our monthly Cafecito con Conexiones from 9AM–11AM at a different local coffee shop or bakery around the Tampa Bay area.\n\nWhile you're there, enjoy casual networking with fellow entrepreneurs, community leaders, and resource partners. This is a fantastic way to make new connections and discover the many local resources available to help your business grow.\n\n\nTuesday, December 2, 2025 | 9AM to 11AM | Location: Corona's Coffee Shop, 9307 N Nebraska Ave, Tampa, FL 33612\n\Location:\nCorona's Coffee Shop\n9307 N Nebraska Ave\nTampa, FL 33612
X-ALT-DESC;FMTTYPE=text/html:Cafecito con Conexiones - Hillsborough<br /><br />12/02/25 09:00 AM EST - 12/02/25 11:00 AM EST<br />Description:<br /><p data-end="286" data-start="179">Join us for our&nbsp;<strong data-end="321" data-start="296">monthly Cafecito con Conexiones&nbsp;from 9AM&ndash;11AM</strong> at a different <strong data-end="368" data-start="337">local coffee shop or bakery</strong> around the Tampa Bay area.</p>

<p data-end="690" data-start="397">While you're there,&nbsp;enjoy casual networking with fellow entrepreneurs, community leaders, and resource partners. This is a fantastic way to <strong data-end="610" data-start="586">make new connections</strong> and discover the many <strong data-end="652" data-start="633">local resources</strong> available to help your business grow.</p>

<p><br />
<strong>Tuesday, December 2, 2025&nbsp;| 9AM to 11AM | Location: Corona's Coffee Shop,&nbsp;</strong>9307 N Nebraska Ave, Tampa, FL 33612</p>
<br />Location:<br />Corona's Coffee Shop<br />9307 N Nebraska Ave<br />Tampa, FL 33612
PRIORITY:3
TRANSP:TRANSPARENT
BEGIN:VALARM
TRIGGER:-PT5M
ACTION:DISPLAY
DESCRIPTION:Reminder
END:VALARM
END:VEVENT
END:VCALENDAR
