BEGIN:VCALENDAR
VERSION:2.0
CALSCALE:GREGORIAN
METHOD:PUBLISH
PRODID://TBLC//469269
BEGIN:VEVENT
DTSTAMP:20260424T150707
VTIMEZONE:America/New_York
DTSTART:20251210T140000Z
DTEND:20251210T160000Z
UID:469269
SUMMARY:Cafecito con Conexiones - Pasco
LOCATION:Macondo Coffee Roasters - Wesley Chapel, 6027 Wesley Grove Blvd , Wesley Chapel, FL, 33544
DESCRIPTION:Cafecito con Conexiones - Pasco\n\n12/10/25 09:00 AM EST\n - 12/10/25 11:00 AM EST\Description:\n\nStart your morning right with a coffee!â˜•ðŸ¥\n\nJoin us for our monthly Cafecito con Conexiones - Pasco County Chapter.\n\nWhile you're there, enjoy casual networking with fellow entrepreneurs, community leaders, and resource partners. This is a fantastic way to make new connections and discover the many local resources available to help your business grow. \n\n\nWednesday, December 10, 2025 | 9AM to 11AM | Location: Macondo Coffee Roasters Wesley Chapel\n\n \n\Location:\nMacondo Coffee Roasters - Wesley Chapel\n6027 Wesley Grove Blvd \nWesley Chapel, FL 33544
X-ALT-DESC;FMTTYPE=text/html:Cafecito con Conexiones - Pasco<br /><br />12/10/25 09:00 AM EST - 12/10/25 11:00 AM EST<br />Description:<br /><p data-end="286" data-start="179"><br />
Start your morning right with a coffee!â˜•ðŸ¥</p>

<p data-end="286" data-start="179">Join us for our&nbsp;<strong data-end="321" data-start="296">monthly Cafecito con Conexiones - Pasco County Chapter.</strong></p>

<p data-end="690" data-start="397">While you're there,&nbsp;enjoy casual networking with fellow entrepreneurs, community leaders, and resource partners. This is a fantastic way to&nbsp;<strong data-end="610" data-start="586">make new connections</strong>&nbsp;and discover the many&nbsp;<strong data-end="652" data-start="633">local resources</strong>&nbsp;available to help your business grow.&nbsp;</p>

<p><br />
<strong>Wednesday, December 10, 2025&nbsp;| 9AM to 11AM | Location: Macondo Coffee Roasters Wesley Chapel</strong><br />
<br />
&nbsp;</p>
<br />Location:<br />Macondo Coffee Roasters - Wesley Chapel<br />6027 Wesley Grove Blvd <br />Wesley Chapel, FL 33544
PRIORITY:3
TRANSP:TRANSPARENT
BEGIN:VALARM
TRIGGER:-PT5M
ACTION:DISPLAY
DESCRIPTION:Reminder
END:VALARM
END:VEVENT
END:VCALENDAR
