BEGIN:VCALENDAR
VERSION:2.0
CALSCALE:GREGORIAN
METHOD:PUBLISH
PRODID://TBLC//475763
BEGIN:VEVENT
DTSTAMP:20260424T133508
VTIMEZONE:America/New_York
DTSTART:20260114T230000Z
DTEND:20260115T013000Z
UID:475763
SUMMARY:Lead Forward: Vision & Goal Setting Workshop (in Pinellas)
LOCATION:CoHatch St. Petersburg, 15 8th St N, , St. Petersburg, FL, 33701
DESCRIPTION:Lead Forward: Vision & Goal Setting Workshop (in Pinellas)\n\n01/14/26 06:00 PM EST\n - 01/14/26 08:30 PM EST\Description:\nLead Forward: Vision & Goal Setting Workshop\nJanuary 14, 2026 | 6PM - 8:30PM | CoHatch St. Petersburg\n\nKick off the year with clarity, confidence, and purpose. The Lead Forward: Vision & Goal Setting Workshop is designed for entrepreneurs, professionals, and emerging leaders who are ready to take intentional steps toward their goals.\n\nWorkshop Takeaways:\n\n\n	\n	Clarify and refine your personal and professional vision\n	\n	\n	Identify your niche and define what sets you apart\n	\n	\n	Strengthen leadership and communication skills\n	\n	\n	Develop focus and strategy to move forward with confidence—whether launching, scaling, or re-calibrating\n	 \n	\n\n\nCome ready to reflect, connect, and leave inspired with actionable insights you can apply immediately. This is more than goal setting—it’s about leading forward with purpose.\n\Location:\nCoHatch St. Petersburg\n15 8th St N, \nSt. Petersburg, FL 33701
X-ALT-DESC;FMTTYPE=text/html:Lead Forward: Vision & Goal Setting Workshop (in Pinellas)<br /><br />01/14/26 06:00 PM EST - 01/14/26 08:30 PM EST<br />Description:<br /><p><span style="color:#008080"><em><strong><span style="font-size:20px">Lead Forward:&nbsp;Vision &amp; Goal Setting Workshop</span></strong></em></span><br />
<span style="color:#000080"><span style="font-size:16px"><strong>January 14, 2026 | 6PM - 8:30PM | CoHatch St. Petersburg</strong></span></span><br />
<br />
<span style="font-size:14px">Kick off the year with clarity, confidence, and purpose. The <em data-end="315" data-start="269">Lead Forward: Vision &amp; Goal Setting Workshop</em> is designed for entrepreneurs, professionals, and emerging leaders who are ready to take intentional steps toward their goals.</span></p>

<p data-end="109" data-start="86"><u><span style="font-size:14px"><span style="color:#008080"><strong data-end="109" data-start="86">Workshop Takeaways:</strong></span></span></u></p>

<ul data-end="500" data-start="110">
	<li data-end="170" data-start="110">
	<p data-end="170" data-start="112"><span style="font-size:14px">Clarify and refine your personal and professional vision</span></p>
	</li>
	<li data-end="290" data-start="236">
	<p data-end="290" data-start="238"><span style="font-size:14px">Identify your niche and define what sets you apart</span></p>
	</li>
	<li data-end="341" data-start="291">
	<p data-end="341" data-start="293"><span style="font-size:14px">Strengthen leadership and communication skills</span></p>
	</li>
	<li data-end="500" data-start="393">
	<p data-end="500" data-start="395"><span style="font-size:14px">Develop focus and strategy to move forward with confidence&mdash;whether launching, scaling, or re-calibrating</span><br />
	&nbsp;</p>
	</li>
</ul>

<p data-end="1007" data-is-last-node="" data-is-only-node="" data-start="833"><span style="font-size:14px"><span style="color:#008080"><strong>Come ready to reflect, connect, and leave inspired with actionable insights you can apply immediately. This is more than goal setting&mdash;it&rsquo;s about leading forward with purpose.</strong></span></span></p>
<br />Location:<br />CoHatch St. Petersburg<br />15 8th St N, <br />St. Petersburg, FL 33701
PRIORITY:3
TRANSP:TRANSPARENT
BEGIN:VALARM
TRIGGER:-PT5M
ACTION:DISPLAY
DESCRIPTION:Reminder
END:VALARM
END:VEVENT
END:VCALENDAR
