BEGIN:VCALENDAR
VERSION:2.0
CALSCALE:GREGORIAN
METHOD:PUBLISH
PRODID://TBLC//484308
BEGIN:VEVENT
DTSTAMP:20260424T133746
VTIMEZONE:America/New_York
DTSTART:20260130T140000Z
DTEND:20260130T144500Z
UID:484308
SUMMARY:Virtual Membership Orientation | Member Benefits & Tools
LOCATION:
DESCRIPTION:Virtual Membership Orientation | Member Benefits & Tools\n\n01/30/26 09:00 AM EST\n - 01/30/26 09:45 AM EST\Description:\nJanuary 30th, 2026 | 9AM to 9:45AM | Virtual\n\nNew to the Chamber—or want a quick refresher? Join us for a virtual Membership Orientation designed to help you make the most of your Chamber investment. We’ll walk you through how to access and navigate MemberLeap, highlight key member benefits, and share practical tips on how to use those benefits to grow your business and connections.\n\nWe’ll also cover why joining a chamber matters—and how being engaged can open doors, build visibility, and strengthen your professional network.\n\nPerfect for new members and current members looking to re-engage and maximize their membership.\n\n**Virtual orientations are the last Friday of every month**\n\n \n
X-ALT-DESC;FMTTYPE=text/html:Virtual Membership Orientation | Member Benefits & Tools<br /><br />01/30/26 09:00 AM EST - 01/30/26 09:45 AM EST<br />Description:<br /><p data-end="654" data-start="162"><strong>January 30th, 2026 | 9AM to 9:45AM | Virtual</strong><br />
<br />
New to the Chamber&mdash;or want a quick refresher? Join us for a virtual Membership Orientation designed to help you make the most of your Chamber investment. We&rsquo;ll walk you through how to access and navigate <strong data-end="380" data-start="366">MemberLeap</strong>, highlight key member benefits, and share practical tips on how to use those benefits to grow your business and connections.<br />
<br />
We&rsquo;ll also cover <strong data-end="556" data-start="523">why joining a chamber matters</strong>&mdash;and how being engaged can open doors, build visibility, and strengthen your professional network.</p>

<p data-end="751" data-start="656">Perfect for new members and current members looking to re-engage and maximize their membership.<br />
<br />
**Virtual orientations are the last Friday of every month**<br />
<br />
&nbsp;</p>

PRIORITY:3
TRANSP:TRANSPARENT
BEGIN:VALARM
TRIGGER:-PT5M
ACTION:DISPLAY
DESCRIPTION:Reminder
END:VALARM
END:VEVENT
END:VCALENDAR
