BEGIN:VCALENDAR
VERSION:2.0
CALSCALE:GREGORIAN
METHOD:PUBLISH
PRODID://TBLC//488712
BEGIN:VEVENT
DTSTAMP:20260424T121513
VTIMEZONE:America/New_York
DTSTART:20260223T233000Z
DTEND:20260224T010000Z
UID:488712
SUMMARY:Immigration Webinar: Protect your Rights & Future
LOCATION:Northwestern Mutual, 1511 N Westshore Blvd, Suite 800, Tampa, Fl, 33607
DESCRIPTION:Immigration Webinar: Protect your Rights & Future\n\n02/23/26 06:30 PM EST\n - 02/23/26 08:00 PM EST\Description:\nKnowledge is power. Join us for Protect Your Rights & Your Future, an informative and empowering panel designed to equip our community with up-to-date information, practical tools, and trusted resources to navigate today’s legal and personal challenges with confidence.\n\n Date: Monday, February 23, 2026\nTime: 6:30 – 8:00 PM\nLocation: 1511 N Westshore Blvd SUITE 800, Tampa, FL 33607\nThis is a hybrid event, offering both in-person and virtual attendance options.\n\nThis dynamic conversation will bring together experienced attorneys and a mental health professional to discuss critical topics including immigration, estate planning, property, probate, trusts, personal injury, and emotional well-being. Our goal is to help individuals and families understand their options, prepare proactively, and know what steps to take to protect themselves and their loved ones.\n\nYou’ll walk away with:\n\n\n	\n	Clear, practical guidance on your legal rights\n	\n	\n	Insights on planning for the future and protecting your assets\n	\n	\n	Information on available resources and support services\n	\n	\n	Tools to help you make informed decisions during uncertain times\n	\n\n\nPanelists include:\n\n\n	\n	Danielle Hernandez, Immigration Attorney\n	\n	\n	Ruby Montes, Estate, Probate & Trust Attorney\n	\n	\n	Karen Skyers, Estate, Probate & Trust Attorney\n	\n	\n	Jessica Fernandez, Personal Injury Attorney\n	\n\n\nWhether you are seeking answers, preparing for the future, or simply want to stay informed, this panel is for you. Come learn, connect, and take steps toward protecting what matters most.\n\n------------------------------------------------------------------------------------------------------------------------------------------------------------------------------------------------------------------\n \n\nEl conocimiento es poder. Acompáñenos en Proteja Sus Derechos y Su Futuro, un panel informativo y empoderador diseñado para brindar a nuestra comunidad información actualizada, herramientas prácticas y recursos confiables para enfrentar con confianza los desafíos legales y personales de hoy.\n\nFecha: Lunes, 23 de febrero de 2026\nHora: 6:30 – 8:00 PM\nLugar: 1511 N Westshore Blvd, Suite 800, Tampa, FL 33607\nEste es un evento híbrido, con opción de asistencia presencial y virtual.\n\nEsta conversación dinámica reunirá a abogados con amplia experiencia y a una profesional de la salud mental para abordar temas clave como inmigración, planificación patrimonial, bienes raíces, sucesiones, fideicomisos, lesiones personales y bienestar emocional. Nuestro objetivo es ayudar a individuos y familias a comprender sus opciones, prepararse de manera proactiva y saber qué pasos tomar para protegerse a sí mismos y a sus seres queridos.\n\nAl asistir, usted obtendrá:\n\n\n	\n	Orientación clara y práctica sobre sus derechos legales\n	\n	\n	Información valiosa sobre cómo planificar para el futuro y proteger sus bienes\n	\n	\n	Detalles sobre recursos disponibles y servicios de apoyo\n	\n	\n	Herramientas para tomar decisiones informadas en tiempos de incertidumbre\n	\n\n\nPanelistas incluyen:\n\n\n	\n	Danielle Hernandez, Abogada de Inmigración\n	\n	\n	Ruby Montes, Abogada de Sucesiones, Herencias y Fideicomisos\n	\n	\n	Karen Skyers, Abogada de Sucesiones, Herencias y Fideicomisos\n	\n	\n	Jessica Fernandez, Abogada de Lesiones Personales\n	\n\n\nYa sea que esté buscando respuestas, preparándose para el futuro o simplemente desee mantenerse informado, este panel es para usted. Venga a aprender, conectar y dar pasos importantes para proteger lo que más importa.\n\n \n\Location:\nNorthwestern Mutual\n1511 N Westshore Blvd, Suite 800\nTampa, Fl 33607
X-ALT-DESC;FMTTYPE=text/html:Immigration Webinar: Protect your Rights & Future<br /><br />02/23/26 06:30 PM EST - 02/23/26 08:00 PM EST<br />Description:<br /><p data-end="481" data-start="208"><span style="font-size:14px">Knowledge is power. Join us for <strong data-end="277" data-start="240">Protect Your Rights &amp; Your Future</strong>, an informative and empowering panel designed to equip our community with up-to-date information, practical tools, and trusted resources to navigate today&rsquo;s legal and personal challenges with confidence.</span><br />
<br />
<strong><span style="font-size:14px">&nbsp;Date:&nbsp;Monday, February 23, 2026<br />
Time:&nbsp;6:30 &ndash; 8:00 PM<br />
Location:&nbsp;1511 N Westshore Blvd SUITE 800, Tampa, FL 33607</span><br />
<span style="color:#40E0D0"><span style="font-size:16px">This is a hybrid event, offering both in-person and virtual attendance options.</span></span></strong></p>

<p data-end="884" data-start="483"><span style="font-size:14px">This dynamic conversation will bring together experienced attorneys and a mental health professional to discuss critical topics including immigration, estate planning, property, probate, trusts, personal injury, and emotional well-being. Our goal is to help individuals and families understand their options, prepare proactively, and know what steps to take to protect themselves and their loved ones.</span></p>

<p data-end="912" data-start="886"><span style="font-size:14px"><strong data-end="912" data-start="886">You&rsquo;ll walk away with:</strong></span></p>

<ul data-end="1159" data-start="913">
	<li data-end="963" data-start="913">
	<p data-end="963" data-start="915"><span style="font-size:14px">Clear, practical guidance on your legal rights</span></p>
	</li>
	<li data-end="1030" data-start="964">
	<p data-end="1030" data-start="966"><span style="font-size:14px">Insights on planning for the future and protecting your assets</span></p>
	</li>
	<li data-end="1090" data-start="1031">
	<p data-end="1090" data-start="1033"><span style="font-size:14px">Information on available resources and support services</span></p>
	</li>
	<li data-end="1159" data-start="1091">
	<p data-end="1159" data-start="1093"><span style="font-size:14px">Tools to help you make informed decisions during uncertain times</span></p>
	</li>
</ul>

<p data-end="1183" data-start="1161"><span style="font-size:14px"><strong data-end="1183" data-start="1161">Panelists include:</strong></span></p>

<ul data-end="1429" data-start="1184">
	<li data-end="1228" data-start="1184">
	<p data-end="1228" data-start="1186"><span style="font-size:14px">Danielle Hernandez, Immigration Attorney</span></p>
	</li>
	<li data-end="1285" data-start="1229">
	<p data-end="1285" data-start="1231"><span style="font-size:14px">Ruby Montes, Estate, Probate &amp; Trust Attorney</span></p>
	</li>
	<li data-end="1343" data-start="1286">
	<p data-end="1343" data-start="1288"><span style="font-size:14px">Karen Skyers, Estate, Probate &amp; Trust Attorney</span></p>
	</li>
	<li data-end="1391" data-start="1344">
	<p data-end="1391" data-start="1346"><span style="font-size:14px">Jessica Fernandez, Personal Injury Attorney</span></p>
	</li>
</ul>

<p data-end="1618" data-start="1431"><span style="font-size:14px">Whether you are seeking answers, preparing for the future, or simply want to stay informed, this panel is for you. Come learn, connect, and take steps toward protecting what matters most.</span></p>

<p><span style="font-size:14px">------------------------------------------------------------------------------------------------------------------------------------------------------------------------------------------------------------------</span><br />
&nbsp;</p>

<p data-end="344" data-start="44"><span style="font-size:14px"><strong data-end="73" data-start="44">El conocimiento es poder.</strong> Acomp&aacute;&ntilde;enos en <strong data-end="125" data-start="89">Proteja Sus Derechos y Su Futuro</strong>, un panel informativo y empoderador dise&ntilde;ado para brindar a nuestra comunidad informaci&oacute;n actualizada, herramientas pr&aacute;cticas y recursos confiables para enfrentar con confianza los desaf&iacute;os legales y personales de hoy.</span></p>

<p data-end="477" data-start="346"><span style="font-size:14px"><strong data-end="356" data-start="346">Fecha:</strong> <strong>Lunes, 23 de febrero de 2026</strong><br data-end="388" data-start="385" />
<strong data-end="397" data-start="388">Hora</strong><strong data-end="397" data-start="388">:</strong> <strong>6:30 &ndash; 8:00 PM</strong><br data-end="415" data-start="412" />
<strong data-end="425" data-start="415">Lugar:</strong> <strong>1511 N Westshore Blvd, Suite 800, Tampa, FL 33607</strong></span><br />
<span style="color:#40E0D0"><span style="font-size:16px"><strong>Este es un evento h&iacute;brido, con opci&oacute;n de asistencia presencial y virtual.</strong></span></span></p>

<p data-end="925" data-start="479"><span style="font-size:14px">Esta conversaci&oacute;n din&aacute;mica reunir&aacute; a abogados con amplia experiencia y a una profesional de la salud mental para abordar temas clave como inmigraci&oacute;n, planificaci&oacute;n patrimonial, bienes ra&iacute;ces, sucesiones, fideicomisos, lesiones personales y bienestar emocional. Nuestro objetivo es ayudar a individuos y familias a comprender sus opciones, prepararse de manera proactiva y saber qu&eacute; pasos tomar para protegerse a s&iacute; mismos y a sus seres queridos.</span></p>

<p data-end="958" data-start="927"><span style="font-size:14px"><strong data-end="958" data-start="927">Al asistir, usted obtendr&aacute;:</strong></span></p>

<ul data-end="1241" data-start="960">
	<li data-end="1019" data-start="960">
	<p data-end="1019" data-start="962"><span style="font-size:14px">Orientaci&oacute;n clara y pr&aacute;ctica sobre sus derechos legales</span></p>
	</li>
	<li data-end="1102" data-start="1020">
	<p data-end="1102" data-start="1022"><span style="font-size:14px">Informaci&oacute;n valiosa sobre c&oacute;mo planificar para el futuro y proteger sus bienes</span></p>
	</li>
	<li data-end="1163" data-start="1103">
	<p data-end="1163" data-start="1105"><span style="font-size:14px">Detalles sobre recursos disponibles y servicios de apoyo</span></p>
	</li>
	<li data-end="1241" data-start="1164">
	<p data-end="1241" data-start="1166"><span style="font-size:14px">Herramientas para tomar decisiones informadas en tiempos de incertidumbre</span></p>
	</li>
</ul>

<p data-end="1267" data-start="1243"><span style="font-size:14px"><strong data-end="1267" data-start="1243">Panelistas incluyen:</strong></span></p>

<ul data-end="1536" data-start="1269">
	<li data-end="1315" data-start="1269">
	<p data-end="1315" data-start="1271"><span style="font-size:14px">Danielle Hernandez, Abogada de Inmigraci&oacute;n</span></p>
	</li>
	<li data-end="1380" data-start="1316">
	<p data-end="1380" data-start="1318"><span style="font-size:14px">Ruby Montes, Abogada de Sucesiones, Herencias y Fideicomisos</span></p>
	</li>
	<li data-end="1446" data-start="1381">
	<p data-end="1446" data-start="1383"><span style="font-size:14px">Karen Skyers, Abogada de Sucesiones, Herencias y Fideicomisos</span></p>
	</li>
	<li data-end="1500" data-start="1447">
	<p data-end="1500" data-start="1449"><span style="font-size:14px">Jessica Fernandez, Abogada de Lesiones Personales</span></p>
	</li>
</ul>

<p data-end="1755" data-start="1538"><span style="font-size:14px">Ya sea que est&eacute; buscando respuestas, prepar&aacute;ndose para el futuro o simplemente desee mantenerse informado, este panel es para usted. Venga a aprender, conectar y dar pasos importantes para proteger lo que m&aacute;s importa.</span></p>

<p>&nbsp;</p>
<br />Location:<br />Northwestern Mutual<br />1511 N Westshore Blvd, Suite 800<br />Tampa, Fl 33607
PRIORITY:3
TRANSP:TRANSPARENT
BEGIN:VALARM
TRIGGER:-PT5M
ACTION:DISPLAY
DESCRIPTION:Reminder
END:VALARM
END:VEVENT
END:VCALENDAR
