BEGIN:VCALENDAR
VERSION:2.0
CALSCALE:GREGORIAN
METHOD:PUBLISH
PRODID://TBLC//496249
BEGIN:VEVENT
DTSTAMP:20260424T115447
VTIMEZONE:America/New_York
DTSTART:20260326T200000Z
DTEND:20260327T000000Z
UID:496249
SUMMARY:Ribbon Cutting Ceremony for Centro de Ayuda para Accidentes
LOCATION:Centro de Ayuda para Accidentes, 3434 W Columbus Drive, Tampa, Fl, 33607
DESCRIPTION:Ribbon Cutting Ceremony for Centro de Ayuda para Accidentes\n\n03/26/26 04:00 PM EST\n - 03/26/26 08:00 PM EST\Description:\n GRAND OPENING \n\nNos encantaría que nos acompañes a celebrar la apertura oficial de nuestro nuevo espacio.\n\nUn evento especial donde compartiremos, conectaremos y celebraremos este nuevo comienzo junto a nuestra comunidad.\n\nFecha: 26 de marzo de 2026\nHorario: 4:00 PM\nRibbon Cutting a las 5PM\nDireccion: 3434 W Columbus Dr, Ste 204Tampa, Florida 33607\n\nDisfruta de un ambiente agradable, buena compañía y sorpresas especiales para nuestros invitados.\n\n¡Tu presencia hará este momento aún más significativo para nosotros!\n\n\nRSVP CLICK HERE\nhttps://www.eventbrite.com/e/grand-openig-tickets-1984342180880?aff=oddtdtcreator\n\n---------------------------------------------------------------------------------------------------------------------------------------------------------------\n\nGRAND OPENING\n\nWe would love for you to join us in celebrating the official opening of our new space.\n\nA special event where we will share, connect, and celebrate this new beginning with our community.\n\nDate: March 26, 2026\nTime: 4:00 PM\nRibbon Cutting: 5:00 PM\nAddress: 3434 W Columbus Dr, Ste 204\nTampa, Florida 33607\n\nEnjoy a pleasant atmosphere, great company, and special surprises for our guests.\n\nYour presence will make this moment even more meaningful for us!\n\nRSVP – Click Here:\nhttps://www.eventbrite.com/e/grand-openig-tickets-1984342180880?aff=oddtdtcreator\n\Location:\nCentro de Ayuda para Accidentes\n3434 W Columbus Drive\nTampa, Fl 33607
X-ALT-DESC;FMTTYPE=text/html:Ribbon Cutting Ceremony for Centro de Ayuda para Accidentes<br /><br />03/26/26 04:00 PM EST - 03/26/26 08:00 PM EST<br />Description:<br /><p><span style="line-height:1"><span style="font-family:arial,helvetica,sans-serif"><strong><span style="color:#008080"><span style="font-size:20px">&nbsp;GRAND OPENING&nbsp;</span></span></strong><br />
<br />
<span style="font-size:16px">Nos encantar&iacute;a que nos acompa&ntilde;es a celebrar la apertura oficial de nuestro nuevo espacio.<br />
<br />
Un evento especial donde compartiremos, conectaremos y celebraremos este nuevo comienzo junto a nuestra comunidad.</span><br />
<br />
<span style="font-size:18px"><strong><span style="color:#008080">Fecha: 26 de marzo de 2026<br />
Horario: 4:00 PM<br />
Ribbon Cutting a las 5PM<br />
Direccion: 3434 W Columbus Dr, Ste 204Tampa, Florida 33607</span></strong></span><br />
<br />
<span style="font-size:16px">Disfruta de un ambiente agradable, buena compa&ntilde;&iacute;a y sorpresas especiales para nuestros invitados.<br />
<br />
&iexcl;Tu presencia har&aacute; este momento a&uacute;n m&aacute;s significativo para nosotros!<br />
<br />
<br />
<strong>RSVP CLICK&nbsp;HERE</strong><br />
<a data-saferedirecturl="https://www.google.com/url?q=https://www.eventbrite.com/e/grand-openig-tickets-1984342180880?aff%3Doddtdtcreator&amp;source=gmail&amp;ust=1772816262536000&amp;usg=AOvVaw19gOix6kON8bYLG1vIfkdt" href="https://www.eventbrite.com/e/grand-openig-tickets-1984342180880?aff=oddtdtcreator" rel="noreferrer" target="_blank">https://www.eventbrite.com/e/g<wbr />rand-openig-tickets-1984342180<wbr />880?aff=oddtdtcreator</a><br />
<br />
---------------------------------------------------------------------------------------------------------------------------------------------------------------</span></span></span><br />
<br />
<span style="color:#008080"><span style="font-family:arial,helvetica,sans-serif"><span style="font-size:16px"><strong data-end="17" data-start="0">GRAND OPENING</strong></span></span></span></p>

<p data-end="105" data-start="19"><span style="font-family:arial,helvetica,sans-serif"><span style="font-size:16px">We would love for you to join us in celebrating the official opening of our new space.</span></span></p>

<p data-end="205" data-start="107"><span style="font-family:arial,helvetica,sans-serif"><span style="font-size:16px">A special event where we will share, connect, and celebrate this new beginning with our community.</span></span></p>

<p data-end="347" data-start="207"><span style="color:#008080"><span style="font-family:arial,helvetica,sans-serif"><span style="font-size:16px"><strong data-end="216" data-start="207">Date:</strong> <strong>March 26, 2026</strong><br data-end="234" data-start="231" />
<strong data-end="243" data-start="234">Time:</strong> <strong>4:00 PM</strong><br data-end="254" data-start="251" />
<strong data-end="273" data-start="254">Ribbon Cutting:</strong><strong> 5:00 PM</strong><br data-end="284" data-start="281" />
<strong data-end="296" data-start="284">Address:</strong> <strong>3434 W Columbus Dr, Ste 204<br data-end="327" data-is-only-node="" data-start="324" />
Tampa, Florida 33607</strong></span></span></span></p>

<p data-end="430" data-start="349"><span style="font-family:arial,helvetica,sans-serif"><span style="font-size:16px">Enjoy a pleasant atmosphere, great company, and special surprises for our guests.</span></span></p>

<p data-end="496" data-start="432"><span style="font-family:arial,helvetica,sans-serif"><span style="font-size:16px">Your presence will make this moment even more meaningful for us!</span></span></p>

<p data-end="604" data-start="498"><span style="font-family:arial,helvetica,sans-serif"><span style="font-size:16px"><strong data-end="520" data-start="498">RSVP &ndash; Click Here:</strong><br data-end="523" data-start="520" />
<a data-end="604" data-start="523" href="https://www.eventbrite.com/e/grand-openig-tickets-1984342180880?aff=oddtdtcreator" rel="noopener" target="_new">https://www.eventbrite.com/e/grand-openig-tickets-1984342180880?aff=oddtdtcreator</a></span></span></p>
<br />Location:<br />Centro de Ayuda para Accidentes<br />3434 W Columbus Drive<br />Tampa, Fl 33607
PRIORITY:3
TRANSP:TRANSPARENT
BEGIN:VALARM
TRIGGER:-PT5M
ACTION:DISPLAY
DESCRIPTION:Reminder
END:VALARM
END:VEVENT
END:VCALENDAR
