BEGIN:VCALENDAR
VERSION:2.0
CALSCALE:GREGORIAN
METHOD:PUBLISH
PRODID://TBLC//508710
BEGIN:VEVENT
DTSTAMP:20260424T132243
VTIMEZONE:America/New_York
DTSTART:20260423T130000Z
DTEND:20260423T150000Z
UID:508710
SUMMARY:Cafecito con Conexiones - Pinellas
LOCATION:El TÃ­pico Latino, 1479 S. Belcher Road , Largo, FL, 33771
DESCRIPTION:Cafecito con Conexiones - Pinellas\n\n04/23/26 09:00 AM EST\n - 04/23/26 11:00 AM EST\Description:\nStart your morning right with a coffee!â˜•ðŸ¥\n\n\nJoin us for our monthly Cafecito con Conexiones - Pinellas County Edition.\n\nWhile you're there, enjoy casual networking with fellow entrepreneurs, community leaders, and resource partners. This is a fantastic way to make new connections and discover the many local resources available to help your business grow. \n\n\nThursday, April 23, 2026 | 9AM to 11AM | Location: El Típico Latino 1479 S. Belcher Road STE. G&H Largo, Florida 33771\n\Location:\nEl TÃ­pico Latino\n1479 S. Belcher Road \nLargo, FL 33771
X-ALT-DESC;FMTTYPE=text/html:Cafecito con Conexiones - Pinellas<br /><br />04/23/26 09:00 AM EST - 04/23/26 11:00 AM EST<br />Description:<br /><p data-end="286" data-start="179">Start your morning right with a coffee!â˜•ðŸ¥</p>

<p data-end="395" data-start="288"><br />
Join us for our&nbsp;<strong data-end="321" data-start="296">monthly Cafecito con Conexiones - Pinellas&nbsp;County Edition.</strong></p>

<p data-end="690" data-start="397">While you're there,&nbsp;enjoy casual networking with fellow entrepreneurs, community leaders, and resource partners. This is a fantastic way to&nbsp;<strong data-end="610" data-start="586">make new connections</strong>&nbsp;and discover the many&nbsp;<strong data-end="652" data-start="633">local resources</strong>&nbsp;available to help your business grow.&nbsp;</p>

<p><br />
<strong>Thursday, April 23, 2026&nbsp;| 9AM to 11AM | Location:&nbsp;El T&iacute;pico Latino 1479 S. Belcher Road STE.&nbsp;G&amp;H Largo, Florida 33771</strong></p>
<br />Location:<br />El TÃ­pico Latino<br />1479 S. Belcher Road <br />Largo, FL 33771
PRIORITY:3
TRANSP:TRANSPARENT
BEGIN:VALARM
TRIGGER:-PT5M
ACTION:DISPLAY
DESCRIPTION:Reminder
END:VALARM
END:VEVENT
END:VCALENDAR
