BEGIN:VCALENDAR
VERSION:2.0
CALSCALE:GREGORIAN
METHOD:PUBLISH
PRODID://TBLC//508711
BEGIN:VEVENT
DTSTAMP:20260424T115342
VTIMEZONE:America/New_York
DTSTART:20260326T130000Z
DTEND:20260326T150000Z
UID:508711
SUMMARY:Cafecito con Conexiones - Pinellas
LOCATION:The Crumb Factory, 1689 Main St. , Dunedin, FL, 34698
DESCRIPTION:Cafecito con Conexiones - Pinellas\n\n03/26/26 09:00 AM EST\n - 03/26/26 11:00 AM EST\Description:\nStart your morning right with a coffee!â˜•ðŸ¥\n\n\nJoin us for our monthly Cafecito con Conexiones - Pinellas County Edition\n\nWhile you're there, enjoy casual networking with fellow entrepreneurs, community leaders, and resource partners. This is a fantastic way to make new connections and discover the many local resources available to help your business grow. \n\n\nThursday, March 26, 2026 | 9AM to 11AM | Location: The Crumb Factory, 1689 Main St, Dunedin, FL 34698\n\Location:\nThe Crumb Factory\n1689 Main St. \nDunedin, FL 34698
X-ALT-DESC;FMTTYPE=text/html:Cafecito con Conexiones - Pinellas<br /><br />03/26/26 09:00 AM EST - 03/26/26 11:00 AM EST<br />Description:<br /><p data-end="286" data-start="179">Start your morning right with a coffee!â˜•ðŸ¥</p>

<p data-end="395" data-start="288"><br />
Join us for our&nbsp;<strong data-end="321" data-start="296">monthly Cafecito con Conexiones - Pinellas&nbsp;County Edition</strong></p>

<p data-end="690" data-start="397">While you're there,&nbsp;enjoy casual networking with fellow entrepreneurs, community leaders, and resource partners. This is a fantastic way to&nbsp;<strong data-end="610" data-start="586">make new connections</strong>&nbsp;and discover the many&nbsp;<strong data-end="652" data-start="633">local resources</strong>&nbsp;available to help your business grow.&nbsp;</p>

<p><br />
<strong>Thursday, March 26, 2026&nbsp;| 9AM to 11AM | Location: The Crumb Factory,&nbsp;1689 Main St, Dunedin, FL 34698</strong></p>
<br />Location:<br />The Crumb Factory<br />1689 Main St. <br />Dunedin, FL 34698
PRIORITY:3
TRANSP:TRANSPARENT
BEGIN:VALARM
TRIGGER:-PT5M
ACTION:DISPLAY
DESCRIPTION:Reminder
END:VALARM
END:VEVENT
END:VCALENDAR
