BEGIN:VCALENDAR
VERSION:2.0
CALSCALE:GREGORIAN
METHOD:PUBLISH
PRODID://TBLC//508735
BEGIN:VEVENT
DTSTAMP:20260424T132529
VTIMEZONE:America/New_York
DTSTART:20260328T150000Z
DTEND:20260328T163000Z
UID:508735
SUMMARY:Ribbon Cutting Ceremony for Cardenas Mortgage Group
LOCATION:Cardenas Mortgage Group, 1958 W. Dr. Martin Luther King Jr. Drive, Tampa, Fl, 33610
DESCRIPTION:Ribbon Cutting Ceremony for Cardenas Mortgage Group\n\n03/28/26 11:00 AM EST\n - 03/28/26 12:30 PM EST\Description:\nJoin us as we celebrate a special milestone with a Ribbon Cutting Celebration on March 28 at 11:00 AM!\n\nThis moment marks an exciting chapter of growth, partnership, and a continued commitment to serving Tampa Bay homeowners with integrity and excellence by Cardenas Mortgage Group. We invite our community, partners, and friends to come together in celebration and support.\n \n\nDate/Time: March 28, 2026 | 11AM | Ribbon cutting promptly at 11:30AM\nWe have the honor of having Mayor Jane Castor join us for this ribbon cutting ceremony. \n Location: 1958 W. Dr. Martin Luther King Jr. Drive, Tampa, FL 33610\nAttire: Brunch Chic | Elegant Professional\n\nCome celebrate, connect, and be part of this exciting new chapter! âœ‚ï¸ðŸŽ‰\n\n\nWho is Cardenas Mortgage Group?\n\nCardenas Mortgage Group is a mortgage lending team that helps individuals and families navigate the home financing process. The group specializes in assisting clients with purchasing homes, refinancing existing mortgages, and securing loan options tailored to their financial goals.\n\nBased in the Tampa area, their team of loan officers provides guidance throughout the mortgage process—from application to closing—to help clients achieve homeownership with the right financing solutions\n\Location:\nCardenas Mortgage Group\n1958 W. Dr. Martin Luther King Jr. Drive\nTampa, Fl 33610
X-ALT-DESC;FMTTYPE=text/html:Ribbon Cutting Ceremony for Cardenas Mortgage Group<br /><br />03/28/26 11:00 AM EST - 03/28/26 12:30 PM EST<br />Description:<br /><p data-end="110" data-start="0"><span style="font-size:20px"><span style="font-family:arial,helvetica,sans-serif"><span style="color:#0000CD"><strong>Join us as we celebrate a special milestone with a <strong data-end="81" data-start="51">Ribbon Cutting Celebration</strong> on <strong data-end="109" data-start="85">March 28 at 11:00 AM</strong>!</strong></span></span></span></p>

<p data-end="359" data-start="112"><span style="font-size:20px"><span style="font-family:arial,helvetica,sans-serif">This moment marks an exciting chapter of growth, partnership, and a continued commitment to serving <strong data-end="266" data-start="212">Tampa Bay homeowners with integrity and excellence by Cardenas Mortgage Group</strong>. We invite our community, partners, and friends to come together in celebration and support.</span></span><br />
&nbsp;</p>

<p data-end="489" data-start="361"><span style="font-size:20px"><span style="font-family:arial,helvetica,sans-serif"><strong>Date/Time:</strong> March 28, 2026 | 11AM | Ribbon cutting promptly at 11:30AM<br />
<span style="background-color:#AFEEEE">We have the honor of having Mayor Jane Castor join us for this ribbon cutting ceremony.</span>&nbsp;<br />
&nbsp;<strong data-end="377" data-start="364">Location:</strong> 1958 W. Dr. Martin Luther King Jr. Drive, Tampa, FL 33610<br data-end="438" data-start="435" />
<strong data-end="452" data-is-only-node="" data-start="441">Attire:</strong> Brunch Chic | Elegant Professional</span></span></p>

<p data-end="562" data-is-last-node="" data-is-only-node="" data-start="491"><span style="font-size:20px"><span style="font-family:arial,helvetica,sans-serif">Come celebrate, connect, and be part of this exciting new chapter! âœ‚ï¸ðŸŽ‰</span></span></p>

<h3 data-end="158" data-start="136"><br />
<span style="font-size:20px"><span style="font-family:arial,helvetica,sans-serif"><span style="color:#0000CD"><strong>Who is Cardenas Mortgage Group?</strong></span></span></span></h3>

<p data-end="379" data-start="0"><span style="font-size:14px"><span style="font-family:arial,helvetica,sans-serif"><em><strong data-end="27" data-start="0">Cardenas Mortgage Group</strong> is a mortgage lending team&nbsp;that helps individuals and families navigate the home financing process. The group specializes in assisting clients with purchasing homes, refinancing existing mortgages, and securing loan options tailored to their financial goals.</em></span></span></p>

<p data-end="625" data-start="381"><span style="font-size:14px"><span style="font-family:arial,helvetica,sans-serif"><em>Based in the Tampa area, their team of loan officers provides guidance throughout the mortgage process&mdash;from application to closing&mdash;to help clients achieve homeownership with the right financing solutions</em></span></span></p>
<br />Location:<br />Cardenas Mortgage Group<br />1958 W. Dr. Martin Luther King Jr. Drive<br />Tampa, Fl 33610
PRIORITY:3
TRANSP:TRANSPARENT
BEGIN:VALARM
TRIGGER:-PT5M
ACTION:DISPLAY
DESCRIPTION:Reminder
END:VALARM
END:VEVENT
END:VCALENDAR
