BEGIN:VCALENDAR
VERSION:2.0
CALSCALE:GREGORIAN
METHOD:PUBLISH
PRODID://TBLC//514306
BEGIN:VEVENT
DTSTAMP:20260424T150442
VTIMEZONE:America/New_York
DTSTART:20260415T130000Z
DTEND:20260415T150000Z
UID:514306
SUMMARY:Cafecito con Conexiones - Pasco @ Bee Coffee
LOCATION:Bee Coffee, 8609 Land O' Lakes Blvd. , Land O' Lakes, FL, 34638
DESCRIPTION:Cafecito con Conexiones - Pasco @ Bee Coffee\n\n04/15/26 09:00 AM EST\n - 04/15/26 11:00 AM EST\Description:\nCAFECITO CON CONEXIONES\n\nJoin us for our monthly Cafecito con Conexiones - Pasco County Edition.\n\nWhile you're there, enjoy casual networking with fellow entrepreneurs, community leaders, and resource partners. This is a fantastic way to make new connections and discover the many local resources available to help your business grow. \n\n\nWednesday, April 15, 2026 | 9AM to 11AM | Location: Bee Coffee, 8609 Land O' Lakes Blvd, Land O' Lakes, FL 34638\n \n\Location:\nBee Coffee\n8609 Land O' Lakes Blvd. \nLand O' Lakes, FL 34638
X-ALT-DESC;FMTTYPE=text/html:Cafecito con Conexiones - Pasco @ Bee Coffee<br /><br />04/15/26 09:00 AM EST - 04/15/26 11:00 AM EST<br />Description:<br /><p data-end="286" data-start="179"><em><span style="color:#008080"><span style="font-family:georgia,serif"><strong>CAFECITO CON CONEXIONES</strong></span></span></em><br />
<br />
Join us for our&nbsp;<strong data-end="321" data-start="296">monthly Cafecito con Conexiones - Pasco County Edition.</strong></p>

<p data-end="690" data-start="397">While you're there,&nbsp;enjoy casual networking with fellow entrepreneurs, community leaders, and resource partners. This is a fantastic way to&nbsp;<strong data-end="610" data-start="586">make new connections</strong>&nbsp;and discover the many&nbsp;<strong data-end="652" data-start="633">local resources</strong>&nbsp;available to help your business grow.&nbsp;</p>

<p><br />
<strong>Wednesday, April 15, 2026&nbsp;| 9AM to 11AM | Location:&nbsp;Bee Coffee, 8609 Land O' Lakes Blvd, Land O' Lakes, FL 34638</strong><br />
&nbsp;</p>
<br />Location:<br />Bee Coffee<br />8609 Land O' Lakes Blvd. <br />Land O' Lakes, FL 34638
PRIORITY:3
TRANSP:TRANSPARENT
BEGIN:VALARM
TRIGGER:-PT5M
ACTION:DISPLAY
DESCRIPTION:Reminder
END:VALARM
END:VEVENT
END:VCALENDAR
